BEGIN:VCALENDAR
VERSION:2.0
PRODID:-//S.A.O.G.A. - ECPv6.15.20//NONSGML v1.0//EN
CALSCALE:GREGORIAN
METHOD:PUBLISH
X-WR-CALNAME:S.A.O.G.A.
X-ORIGINAL-URL:https://saoga.com.au
X-WR-CALDESC:Events for S.A.O.G.A.
REFRESH-INTERVAL;VALUE=DURATION:PT1H
X-Robots-Tag:noindex
X-PUBLISHED-TTL:PT1H
BEGIN:VTIMEZONE
TZID:Australia/Adelaide
BEGIN:STANDARD
TZOFFSETFROM:+1030
TZOFFSETTO:+0930
TZNAME:ACST
DTSTART:20250405T163000
END:STANDARD
BEGIN:DAYLIGHT
TZOFFSETFROM:+0930
TZOFFSETTO:+1030
TZNAME:ACDT
DTSTART:20251004T163000
END:DAYLIGHT
BEGIN:STANDARD
TZOFFSETFROM:+1030
TZOFFSETTO:+0930
TZNAME:ACST
DTSTART:20260404T163000
END:STANDARD
BEGIN:DAYLIGHT
TZOFFSETFROM:+0930
TZOFFSETTO:+1030
TZNAME:ACDT
DTSTART:20261003T163000
END:DAYLIGHT
BEGIN:STANDARD
TZOFFSETFROM:+1030
TZOFFSETTO:+0930
TZNAME:ACST
DTSTART:20270403T163000
END:STANDARD
BEGIN:DAYLIGHT
TZOFFSETFROM:+0930
TZOFFSETTO:+1030
TZNAME:ACDT
DTSTART:20271002T163000
END:DAYLIGHT
BEGIN:STANDARD
TZOFFSETFROM:+1030
TZOFFSETTO:+0930
TZNAME:ACST
DTSTART:20280401T163000
END:STANDARD
BEGIN:DAYLIGHT
TZOFFSETFROM:+0930
TZOFFSETTO:+1030
TZNAME:ACDT
DTSTART:20280930T163000
END:DAYLIGHT
END:VTIMEZONE
BEGIN:VEVENT
DTSTART;TZID=Australia/Adelaide:20260517T080000
DTEND;TZID=Australia/Adelaide:20260517T170000
DTSTAMP:20260423T132324
CREATED:20250615T232721Z
LAST-MODIFIED:20260420T075137Z
UID:8916-1779004800-1779037200@saoga.com.au
SUMMARY:Sunday 17th May 2026 at Flagstaff Hill GC
DESCRIPTION:Commencing at 8:13am off both the 1st and 10th tees. \nAn old favourite in the Adelaide foothills\, located at Memford Way in Flagstaff Hill. \nMeals will be offered in the new clubhouse after the game\, and the usual swag of prizes for place-getters and for NTPs will definitely be on the agenda there ! \nCarts can be booked by calling the Club Pro on 8270-2300
URL:https://saoga.com.au/event/sunday-17th-may-2026-at-flagstaff-hill-gc/
LOCATION:Flagstaff Hill Golf Club\, Memford Way\, Flagstaff Hill\, South Australia\, 5159\, Australia
ORGANIZER;CN="Stu Thomson":MAILTO:saogasecretary@gmail.com
END:VEVENT
BEGIN:VEVENT
DTSTART;TZID=Australia/Adelaide:20260614T090000
DTEND;TZID=Australia/Adelaide:20260614T140000
DTSTAMP:20260423T132324
CREATED:20250615T235431Z
LAST-MODIFIED:20250902T221332Z
UID:8918-1781427600-1781445600@saoga.com.au
SUMMARY:Sunday 14th June 2026 at The Pat GC
DESCRIPTION:Commencing at 9:10am off 1st Tee. \nWe are returning to this beachside course again. It is a pleasant course located on Military Road in West Beach\, 5024 (opposite the West Beach Caravan Park). \nMeals and drinks will be available in the “Westward Ho” clubhouse after the game\, along with the usual swag of prizes for place-getters and for NTPs. \nCarts can be booked by calling the Club Pro on 8356 4811.
URL:https://saoga.com.au/event/sunday-14th-june-2026-at-the-pat/
LOCATION:West Beach Parks GC\, Military Road\, West Beach\, SA\, 5024\, Australia
ORGANIZER;CN="Stu Thomson":MAILTO:saogasecretary@gmail.com
END:VEVENT
BEGIN:VEVENT
DTSTART;TZID=Australia/Adelaide:20260719T090000
DTEND;TZID=Australia/Adelaide:20260719T140000
DTSTAMP:20260423T132324
CREATED:20250902T220011Z
LAST-MODIFIED:20251108T025641Z
UID:8940-1784451600-1784469600@saoga.com.au
SUMMARY:Sunday 19th July 2026 at South Lakes GC
DESCRIPTION:Commencing at 9:00am off 1st Tee. \nThis is a beautiful course on Billabong Road in Goolwa South. \nMeals might be offered in the clubhouse but\, if not\, we will meet in a nearby pub or restaurant after the game\, with the usual swag of prizes for place-getters and for NTPs being handed out during the meal. \nCarts can be booked by calling the Club Pro on 8555-2078.
URL:https://saoga.com.au/event/sunday-19th-july-2026-at-south-lakes-gc/
LOCATION:South Lakes\, Goolwa\, Billabong Road\, Goolwa\, 5214\, Australia
ORGANIZER;CN="Stu Thomson":MAILTO:saogasecretary@gmail.com
END:VEVENT
BEGIN:VEVENT
DTSTART;TZID=Australia/Adelaide:20260830T090000
DTEND;TZID=Australia/Adelaide:20260830T140000
DTSTAMP:20260423T132324
CREATED:20250902T220229Z
LAST-MODIFIED:20251126T204221Z
UID:8942-1788080400-1788098400@saoga.com.au
SUMMARY:Sunday 30th August 2026 at Willunga GC
DESCRIPTION:Commencing at ~9:00am off 1st Tee. \nThis is a tight but beautiful course on St Peters Terrace in Willunga. \nWe will meet at the clubhouse after the game to hand out the usual swag of prizes for place-getters and for NTPs. \nCarts can be booked by calling the Club Pro on 8556 2676.
URL:https://saoga.com.au/event/sunday-30th-august-2026-at-willunga-gc/
LOCATION:Willunga\, St Peters Terrace\, Willunga\, South Australia\, 5172\, Australia
END:VEVENT
BEGIN:VEVENT
DTSTART;TZID=Australia/Adelaide:20260920T083000
DTEND;TZID=Australia/Adelaide:20260920T140000
DTSTAMP:20260423T132324
CREATED:20251108T030136Z
LAST-MODIFIED:20251108T030136Z
UID:8959-1789893000-1789912800@saoga.com.au
SUMMARY:Sunday 20th September 2026 at The Vines of Reynella GC
DESCRIPTION:Commencing at 8:30am off 1st & 10th Tees. \nThis is a very nice course on the edge of the hills at the corner of Reynell and Pine Roads in Happy Valley. \nMeals will be offered in the clubhouse after the game\, along with the usual swag of prizes for place-getters and for NTPs. \nCarts can be booked by calling the Club Pro on 8381-3300
URL:https://saoga.com.au/event/sunday-20th-september-2026-at-the-vines-of-reynella-gc/
LOCATION:The Vines Golf Club\, 1 Pine Road\, Woodcroft\, South Australia\, 5162\, Australia
ORGANIZER;CN="Stu Thomson":MAILTO:saogasecretary@gmail.com
END:VEVENT
BEGIN:VEVENT
DTSTART;TZID=Australia/Adelaide:20261112T130000
DTEND;TZID=Australia/Adelaide:20261115T220000
DTSTAMP:20260423T132324
CREATED:20251123T092208Z
LAST-MODIFIED:20251123T092208Z
UID:9009-1794488400-1794780000@saoga.com.au
SUMMARY:Thursday 12th to Sunday 15th November 2026 at Clare Golf & Country Clubs
DESCRIPTION:Our Annual Weekend Tournament – the 44th one hosted by SAOGA. \n\nStroke round on Thursday 12th November (off the 1st tee at 1:00 pm);\nAmbrose round on Friday 13th November (shotgun start off various tees at 1:00 pm)\, followed by drinks & canapés at the Clare Country Club;\nStableford round on Saturday 14th November (off the 1st & 10th tees at 8:30 am)\, followed by sandwiches at the Golf Club and then dinner in the Function Room upstairs at the Clare Golf Club;\nStableford round on Sunday 15th November (shotgun start off various tees at 9:00 am)\, followed by lunch and prize-giving at the Clare Country Club\, then an informal BBQ get-together will take place in the evening for those who have chosen to stay for an extra night (this has become a very popular evening).\n\nNote that the Clare Country Club offer SAOGA members and guests some exceptional discounts on the accommodation for this event\, so it is recommended that you do not book any accommodation until you receive an email (with a discount code to use) from us. A significant number of rooms have already been blocked for our use so there’s no need to panic ! \nAlso\, carts will be provided by SAOGA\, the cost of these being included in the weekend entry fees\, so it will not be necessary to pre-book them through the Clare Golf Club. \nFor those who have not joined us at this event before\, the Clare Country Club is on White Hut Road\, Clare and the Clare Golf Club is at 3 Square Mile Road in Clare; despite the differing addresses\, these 2 properties are right next door to each other\, certainly within easy walking and/or golf cart driving distance of each other.
URL:https://saoga.com.au/event/thursday-12th-to-sunday-15th-november-2026-at-clare-golf-country-clubs/
LOCATION:Clare Golf Club\, 3 Square Mile Road\, Clare\, SA\, Australia
ORGANIZER;CN="Stu Thomson":MAILTO:saogasecretary@gmail.com
END:VEVENT
BEGIN:VEVENT
DTSTART;TZID=Australia/Adelaide:20261206T090000
DTEND;TZID=Australia/Adelaide:20261206T143000
DTSTAMP:20260423T132324
CREATED:20251207T220902Z
LAST-MODIFIED:20251207T221123Z
UID:9045-1796547600-1796567400@saoga.com.au
SUMMARY:Sunday 6th December 2026 at Links Lady Bay Golf Club
DESCRIPTION:Our final game of the year and\, for the 5th year\, teams of 2 will compete in a 4BBB format (best Stableford score posted by either team member on each hole) for the “SAOGA Summer Cup”. \nCommencing at 9:04am as a mini-shotgun start off the 1st\, 18th\, 17th\, 16th & 15th Tees (depending on numbers of players who sign up). \nThis links-style course\, rated in the Top-100 Golf Courses in Australia\, is located at 73 St Andrews Boulevard\, Normanville. \nThe usual swag of NTP prizes (as well as the winner’s trophy and prizes for the first 3 place-getters) will be presented in the clubhouse after the game. \nCarts will be pre-booked by us\, for those who request a cart on their entry forms (most players on this course). \nNote that\, apart from the Summer Cup being competed for\, this is a social game only – it does not count towards the annual SOAGA Club Championship results\, nor will any scores be submitted to Golf Australia after it – but there will still be some prizes awarded and it will be a good opportunity for people to catch up again after the Clare weekend in November. And it’s a great course to test out your skills on !
URL:https://saoga.com.au/event/sunday-6th-december-2026-at-links-lady-bay-golf-club/
LOCATION:Links Lady Bay GC\, 73 St Andrews Boulevard\, Normanville\, SA\, Australia
ORGANIZER;CN="Stu Thomson":MAILTO:saogasecretary@gmail.com
END:VEVENT
BEGIN:VEVENT
DTSTART;TZID=Australia/Adelaide:20270117T090000
DTEND;TZID=Australia/Adelaide:20270117T150000
DTSTAMP:20260423T132324
CREATED:20260326T041845Z
LAST-MODIFIED:20260326T041845Z
UID:9072-1800176400-1800198000@saoga.com.au
SUMMARY:Sunday 17th January 2027 at McCracken Golf Club
DESCRIPTION:Our first official game of the year. \nThis is a picturesque (and quite hilly !) course at 10 McCracken Drive\, McCracken SA 5211\, near Victor Harbor. \nTee-offs commencing at 9:00am off the 1st tee\, prizes will be handed out in the bar area after the game. \nIf you need a cart\, please book one directly with the McCracken Golf Club on 8551-0299 (cart numbers are limited so I recommend you book one sooner rather than later !)
URL:https://saoga.com.au/event/sunday-17th-january-2027-at-mccracken-golf-club/
LOCATION:McCracken Golf Club\, 10 McCracken Drive\, McCracken\, SA\, 5211\, Australia
ORGANIZER;CN="Stu Thomson":MAILTO:saogasecretary@gmail.com
END:VEVENT
BEGIN:VEVENT
DTSTART;TZID=Australia/Adelaide:20270221T080000
DTEND;TZID=Australia/Adelaide:20270221T150000
DTSTAMP:20260423T132324
CREATED:20260326T042431Z
LAST-MODIFIED:20260326T043532Z
UID:9074-1803196800-1803222000@saoga.com.au
SUMMARY:Sunday 21st February 2027 at Mt Compass GC (followed by AGM)
DESCRIPTION:Our second game of the year\, commencing at 08:04am as a mini shotgun-start off the 16th\, 17th\, 18th & 1st Tees. \nThis course\, situated on George Francis Drive in Mount Compass\, is constantly rated amongst Australia’s top 100 golf courses so it’s well worth playing on. \nCarts can be booked by calling the Club Pro on 8556-8500. \nThis game will be followed by the SAOGA AGM\, this will be held off-site at the Mount Compass Hotel – please join us for this if you can. \nThe Mt Compass Hotel offer great meals in their restaurant and there will be the usual swag of prizes handed out to place-getters as well as for NTPs. \n 
URL:https://saoga.com.au/event/sunday-21st-february-2027-at-mt-compass-gc-followed-by-agm/
LOCATION:Mount Compass Golf Course\, George Francis Drive\, Mount Compass\, South Australia\, 5210\, Australia
ORGANIZER;CN="Stu Thomson":MAILTO:saogasecretary@gmail.com
END:VEVENT
BEGIN:VEVENT
DTSTART;TZID=Australia/Adelaide:20270321T080000
DTEND;TZID=Australia/Adelaide:20270321T140000
DTSTAMP:20260423T132324
CREATED:20260326T043121Z
LAST-MODIFIED:20260326T043121Z
UID:9076-1805616000-1805637600@saoga.com.au
SUMMARY:Sunday 21st March 2027 at Sandy Creek GC
DESCRIPTION:9:00am Tee-off from the 1st Tee. \nThis is a picturesque course at 129 Williamstown Rd\, Sandy Creek – in the southern Barossa Valley area between Gawler & Lyndoch – and was recently ranked by the Golf Australia Magazine as the 10th best Public Access Course in South Australia. \nThe usual swag of prizes for place-getters and for NTPs will be presented in the clubhouse after the game. \nCarts can be booked by calling the Club Pro on 8524-4231.
URL:https://saoga.com.au/event/sunday-21st-march-2027-at-sandy-creek-gc/
LOCATION:Sandy Creek Golf Club\, 129 Williamstown Road\, Sandy Creek\, South Australia\, 5350\, Australia
ORGANIZER;CN="Stu Thomson":MAILTO:saogasecretary@gmail.com
END:VEVENT
END:VCALENDAR